BEGIN:VCALENDAR
VERSION:2.0
PRODID:-//Grace and Dotty - ECPv6.15.18//NONSGML v1.0//EN
CALSCALE:GREGORIAN
METHOD:PUBLISH
X-WR-CALNAME:Grace and Dotty
X-ORIGINAL-URL:https://graceanddotty.com
X-WR-CALDESC:Events for Grace and Dotty
REFRESH-INTERVAL;VALUE=DURATION:PT1H
X-Robots-Tag:noindex
X-PUBLISHED-TTL:PT1H
BEGIN:VTIMEZONE
TZID:Europe/London
BEGIN:DAYLIGHT
TZOFFSETFROM:+0000
TZOFFSETTO:+0100
TZNAME:BST
DTSTART:20250330T010000
END:DAYLIGHT
BEGIN:STANDARD
TZOFFSETFROM:+0100
TZOFFSETTO:+0000
TZNAME:GMT
DTSTART:20251026T010000
END:STANDARD
BEGIN:DAYLIGHT
TZOFFSETFROM:+0000
TZOFFSETTO:+0100
TZNAME:BST
DTSTART:20260329T010000
END:DAYLIGHT
BEGIN:STANDARD
TZOFFSETFROM:+0100
TZOFFSETTO:+0000
TZNAME:GMT
DTSTART:20261025T010000
END:STANDARD
BEGIN:DAYLIGHT
TZOFFSETFROM:+0000
TZOFFSETTO:+0100
TZNAME:BST
DTSTART:20270328T010000
END:DAYLIGHT
BEGIN:STANDARD
TZOFFSETFROM:+0100
TZOFFSETTO:+0000
TZNAME:GMT
DTSTART:20271031T010000
END:STANDARD
END:VTIMEZONE
BEGIN:VEVENT
DTSTART;TZID=Europe/London:20260328T113000
DTEND;TZID=Europe/London:20260328T180000
DTSTAMP:20260419T135217
CREATED:20260311T153635Z
LAST-MODIFIED:20260311T153635Z
UID:30189-1774697400-1774720800@graceanddotty.com
SUMMARY:The William Hill Lincoln Handicap 2026
DESCRIPTION:🌟 Join Us for the Grand Opening of the 2026 British Flat Racing Season!🌟\nBe part of one of the biggest days in the racing calendar at Doncaster Racecourse. Soak up the electric atmosphere\, enjoy delicious food & drink\, and cheer on your favourites as the flat turf season kicks off in style 🎉. \n🏆 The Lincoln Handicap🏆\nThe Lincoln Handicap is the curtain-raiser of the British Flat Turf season. Run over 1 mile\, this fiercely competitive race always attracts a top-quality field and delivers drama from start to finish. It’s the perfect way to launch the season\, and a race you simply can’t miss!🔥 \n🎸 Experience The Upbeat Beatles Live!🎸\nAfter racing\, The Upbeat Beatles are bringing the magic of the Beatles to The Lincoln! Enjoy vintage outfits and all the greatest hits of the Beatles\, perfect for fans of every age. \nYou’ll relive classics from Please Please Me to Abbey Road\, all delivered with the energy and authenticity that make them one of the UK’s top Beatles tribute acts. Come sing\, dance\, and relive the magic of Beatlemania. This is a performance you won’t want to miss! 🎤 \n📜 The History of the Lincoln📜\nWith roots stretching back to 1849\, the Lincoln Handicap is steeped in history. Originally run at Lincoln Racecourse\, it moved to Doncaster in 1965\, where it has since become the traditional season opener. \nFrom its early days as the Lincolnshire Handicap to today’s iconic Lincoln Handicap\, this race has stood the test of time ⏳. \n🍻Kick off Lincoln Handicap Saturday with up to 50% off drinks! **🍻\nAs the action gets underway at Doncaster Racecourse\, for the first hour after gates open\, we’re offering: \n50% off draught drinks\, including: | Lager | Cider | Ale | Guinness | Soft Drinks \nYour first pint at the Lincoln could be just £3.25! \n£10 off any bottle of: House Wine | Prosecco | Champagne | Pimms Jugs \nArena Racing Company T&Cs Apply \n🐎 Meet Bob Champion MBE 🐎\nChampion is a former British horse-race and jump jockey whose career was at its height in the late ’70s and 1980s; he is most well-remembered for winning the Grand National in 1981 riding champion horse Aldaniti. Champion was awarded the BBC’s Sports Personality of the Year after his Grand National win and his triumph over adversity has led him to be one of the most celebrated British sportsmen of the last 40 years. \nChampion’s success was so well received by British audiences that it was turned into a film in 1983\, Champions Story was a complete hit! \nHe was awarded an MBE in 1983 for services to horse racing\, whilst\, following his triumph over cancer\, he set up a research and support charity in his name. The Bob Champion Cancer Trust has raised more than £20 million for cancer research. Bob will be meeting and mingling throughout the day.
URL:https://graceanddotty.com/event/the-william-hill-lincoln-handicap-2026/
LOCATION:Doncaster Racecourse\, Leger Way\, Doncaster\, South Yorkshire\, DN2 6BB\, United Kingdom
CATEGORIES:FLAT RACING
ATTACH;FMTTYPE=image/jpeg:https://graceanddotty.com/wp-content/uploads/2026/03/Doncaster.jpg
END:VEVENT
BEGIN:VEVENT
DTSTART;TZID=Europe/London:20260329T123000
DTEND;TZID=Europe/London:20260329T183000
DTSTAMP:20260419T135217
CREATED:20260311T153937Z
LAST-MODIFIED:20260311T154014Z
UID:30193-1774787400-1774809000@graceanddotty.com
SUMMARY:The Lincoln Family Fun Day 2026
DESCRIPTION:Family Fun\, Flat Racing & Live K-Pop at Doncaster Racecourse ✨💜🎤\nLooking for a fun family day out with the kids this spring? Join us at Doncaster Racecourse as we continue our celebration of the return of the British flat season with the Lincoln Family Funday! \nWith epic horse racing and live entertainment\, it’s the perfect mix of sporting action and wholesome family fun. 🏇 \nPlus\, children aged 17 and under go FREE\, making this a great value Sunday family outing in Doncaster. 🎟️ \n🎤 K-POP Superstars Live at Lincoln Family Fun Day🎤\nGet ready for an unforgettable day of music and energy as K-POP Superstars bring the excitement\, style\, and passion of Korean Pop music to our Lincoln Family Fun Day! 💥✨ \nWith multiple shows throughout the day\, you’ll have plenty of chances to experience the ultimate K-Pop tribute\, packed with dazzling choreography\, sparkling costumes\, and non-stop hits from BTS\, BLACKPINK\, KPOP Demon Hunters\, and more. \nK-POP Superstars delivers a high-energy show that will have audiences of all ages singing\, dancing\, and cheering along. 🌈🎉 \n🎡 Family Fun Entertainment 🎡\nFrom engaging activities to family-friendly fun\, there’ll be plenty to keep the whole family occupied and entertained.✨ \nBring the kids along for an action-packed day featuring: \n\n✨Arts and Crafts\n✨Colouring\n✨On-site treasure hunt\n✨Fairground Rides (Chargeable)
URL:https://graceanddotty.com/event/the-lincoln-family-fun-day-2026/
LOCATION:Doncaster Racecourse\, Leger Way\, Doncaster\, South Yorkshire\, DN2 6BB\, United Kingdom
CATEGORIES:FLAT RACING
ATTACH;FMTTYPE=image/jpeg:https://graceanddotty.com/wp-content/uploads/2026/03/Doncaster.jpg
END:VEVENT
END:VCALENDAR